BEGIN:VCALENDAR
VERSION:2.0
PRODID:-//hacksw/handcal//NONSGML v1.0//EN
BEGIN:VEVENT
SUMMARY:DU18F - WAMBRECHIES
UID:f3301f70-c0de-4612-b8f9-f0e09419a49e
DTSTART:20260329T083000Z
DTEND:20260329T230000Z
LOCATION:Localisation   
CATEGORIES:Sportif
STATUS:
URL;VALUE=URI:https://basketclubcappellois.sportsregions.fr/evenements/2026/03/29/du18f-wambrechies-2427111
END:VEVENT
END:VCALENDAR
