BEGIN:VCALENDAR
VERSION:2.0
PRODID:-//hacksw/handcal//NONSGML v1.0//EN
BEGIN:VEVENT
SUMMARY:DMU18-2 - COEUR DE FLANDRES
UID:2b2e1ba3-ff27-49c8-86f2-e97d2ed65b87
DTSTART:20260329T140000Z
DTEND:20260329T230000Z
LOCATION:Localisation   
CATEGORIES:Sportif
STATUS:
URL;VALUE=URI:https://basketclubcappellois.sportsregions.fr/evenements/2026/03/29/dmu18-2-coeur-de-flandres-2427115
END:VEVENT
END:VCALENDAR
