BEGIN:VCALENDAR
VERSION:2.0
PRODID:-//hacksw/handcal//NONSGML v1.0//EN
BEGIN:VEVENT
SUMMARY:DMU18-1 - BOURBOURG
UID:682268c1-aff7-4468-b121-581d9ddbaaab
DTSTART:20260329T120000Z
DTEND:20260329T230000Z
LOCATION:Localisation   
CATEGORIES:Sportif
STATUS:
URL;VALUE=URI:https://basketclubcappellois.sportsregions.fr/evenements/2026/03/29/dmu18-1-bourbourg-2427110
END:VEVENT
END:VCALENDAR
