BEGIN:VCALENDAR
VERSION:2.0
PRODID:-//hacksw/handcal//NONSGML v1.0//EN
BEGIN:VEVENT
SUMMARY:LAMBERSART - SG2
UID:f54eefc6-87ec-40be-b06e-b99901427113
DTSTART:20260322T140000Z
DTEND:20260322T230000Z
LOCATION:Localisation   
CATEGORIES:Sportif
STATUS:
URL;VALUE=URI:https://basketclubcappellois.sportsregions.fr/evenements/2026/03/22/lambersart-sg2-2427097
END:VEVENT
END:VCALENDAR
