BEGIN:VCALENDAR
VERSION:2.0
PRODID:-//hacksw/handcal//NONSGML v1.0//EN
BEGIN:VEVENT
SUMMARY:CROIX - DMU15
UID:d6af6dfb-d44e-49ce-890c-c3153ba172ac
DTSTART:20260322T130000Z
DTEND:20260322T230000Z
LOCATION:Localisation   
CATEGORIES:Sportif
STATUS:
URL;VALUE=URI:https://basketclubcappellois.sportsregions.fr/evenements/2026/03/22/croix-dmu15-2427095
END:VEVENT
END:VCALENDAR
