BEGIN:VCALENDAR
VERSION:2.0
PRODID:-//hacksw/handcal//NONSGML v1.0//EN
BEGIN:VEVENT
SUMMARY:TETEGHEM - DU18F
UID:dae2a0e6-fe23-4d0b-af40-556bfa13f82a
DTSTART:20260321T173000Z
DTEND:20260321T230000Z
LOCATION:Localisation   
CATEGORIES:Sportif
STATUS:
URL;VALUE=URI:https://basketclubcappellois.sportsregions.fr/evenements/2026/03/21/teteghem-du18f-2427086
END:VEVENT
END:VCALENDAR
