BEGIN:VCALENDAR
VERSION:2.0
PRODID:-//hacksw/handcal//NONSGML v1.0//EN
BEGIN:VEVENT
SUMMARY:ISBERGUES - DMU18-1
UID:7fa5ed1e-2910-4c14-b751-e771a5e7186e
DTSTART:20260321T193000Z
DTEND:20260321T230000Z
LOCATION:Localisation   
CATEGORIES:Sportif
STATUS:
URL;VALUE=URI:https://basketclubcappellois.sportsregions.fr/evenements/2026/03/21/isbergues-dmu18-1-2427093
END:VEVENT
END:VCALENDAR
