BEGIN:VCALENDAR
VERSION:2.0
PRODID:-//hacksw/handcal//NONSGML v1.0//EN
BEGIN:VEVENT
SUMMARY:ESTAIRES - DU15F
UID:d37088b3-e1c6-44e3-a156-b1f30a5cef7d
DTSTART:20260321T160000Z
DTEND:20260321T230000Z
LOCATION:Localisation   
CATEGORIES:Sportif
STATUS:
URL;VALUE=URI:https://basketclubcappellois.sportsregions.fr/evenements/2026/03/21/estaires-du15f-2427085
END:VEVENT
END:VCALENDAR
