BEGIN:VCALENDAR
VERSION:2.0
PRODID:-//hacksw/handcal//NONSGML v1.0//EN
BEGIN:VEVENT
SUMMARY:DMU18-2 - LEFFRINCKOUCKE
UID:d9a06bb7-eeaa-4471-af33-8efb84f6e49e
DTSTART:20260321T173000Z
DTEND:20260321T230000Z
LOCATION:Localisation   
CATEGORIES:Sportif
STATUS:
URL;VALUE=URI:https://basketclubcappellois.sportsregions.fr/evenements/2026/03/21/dmu18-2-leffrinckoucke-2427090
END:VEVENT
END:VCALENDAR
