BEGIN:VCALENDAR
VERSION:2.0
PRODID:-//hacksw/handcal//NONSGML v1.0//EN
BEGIN:VEVENT
SUMMARY:SG3 - BAILLEUL
UID:704bbb98-c54a-47ee-85cf-245110367c70
DTSTART:20260320T193000Z
DTEND:20260320T230000Z
LOCATION:Localisation   
CATEGORIES:Sportif
STATUS:
URL;VALUE=URI:https://basketclubcappellois.sportsregions.fr/evenements/2026/03/20/sg3-bailleul-2427083
END:VEVENT
END:VCALENDAR
