BEGIN:VCALENDAR
VERSION:2.0
PRODID:-//hacksw/handcal//NONSGML v1.0//EN
BEGIN:VEVENT
SUMMARY:LOON-PLAGE - DMU11
UID:d9e30b05-3bf5-40cd-a43a-d9ca2ae7fb5e
DTSTART:20260318T181500Z
DTEND:20260318T230000Z
LOCATION:Localisation   
CATEGORIES:Sportif
STATUS:
URL;VALUE=URI:https://basketclubcappellois.sportsregions.fr/evenements/2026/03/18/loon-plage-dmu11-2427081
END:VEVENT
END:VCALENDAR
