BEGIN:VCALENDAR
VERSION:2.0
PRODID:-//hacksw/handcal//NONSGML v1.0//EN
BEGIN:VEVENT
SUMMARY:LOMME - DU18F
UID:69c42810-59ad-432a-961e-55be148cde34
DTSTART:20260315T130000Z
DTEND:20260315T230000Z
LOCATION:Localisation   
CATEGORIES:Sportif
STATUS:
URL;VALUE=URI:https://basketclubcappellois.sportsregions.fr/evenements/2026/03/15/lomme-du18f-2427080
END:VEVENT
END:VCALENDAR
