BEGIN:VCALENDAR
VERSION:2.0
PRODID:-//hacksw/handcal//NONSGML v1.0//EN
BEGIN:VEVENT
SUMMARY:PETITE SYNTHE - DU15F
UID:3ddd8931-da3d-4675-b479-e8527f4969dd
DTSTART:20260314T173000Z
DTEND:20260314T230000Z
LOCATION:Localisation   
CATEGORIES:Sportif
STATUS:
URL;VALUE=URI:https://basketclubcappellois.sportsregions.fr/evenements/2026/03/14/petite-synthe-du15f-2427067
END:VEVENT
END:VCALENDAR
