BEGIN:VCALENDAR
VERSION:2.0
PRODID:-//hacksw/handcal//NONSGML v1.0//EN
BEGIN:VEVENT
SUMMARY:ORCHIES - SG1
UID:7048a86f-298a-4396-b8dd-382fa56cba77
DTSTART:20260314T193000Z
DTEND:20260314T230000Z
LOCATION:Localisation   
CATEGORIES:Sportif
STATUS:
URL;VALUE=URI:https://basketclubcappellois.sportsregions.fr/evenements/2026/03/14/orchies-sg1-2427077
END:VEVENT
END:VCALENDAR
