BEGIN:VCALENDAR
VERSION:2.0
PRODID:-//hacksw/handcal//NONSGML v1.0//EN
BEGIN:VEVENT
SUMMARY:LOOSSOIS - DMU18-1
UID:a671f5ba-4102-46ea-a56c-89c095eb81ab
DTSTART:20260314T160000Z
DTEND:20260314T230000Z
LOCATION:Localisation   
CATEGORIES:Sportif
STATUS:
URL;VALUE=URI:https://basketclubcappellois.sportsregions.fr/evenements/2026/03/14/loossois-dmu18-1-2427072
END:VEVENT
END:VCALENDAR
