BEGIN:VCALENDAR
VERSION:2.0
PRODID:-//hacksw/handcal//NONSGML v1.0//EN
BEGIN:VEVENT
SUMMARY:BCM - DMU11
UID:99432ee3-8357-49ec-b7ae-57795960d0ee
DTSTART:20260314T143000Z
DTEND:20260314T230000Z
LOCATION:Localisation   
CATEGORIES:Sportif
STATUS:
URL;VALUE=URI:https://basketclubcappellois.sportsregions.fr/evenements/2026/03/14/bcm-dmu11-2427063
END:VEVENT
END:VCALENDAR
