BEGIN:VCALENDAR
VERSION:2.0
PRODID:-//hacksw/handcal//NONSGML v1.0//EN
BEGIN:VEVENT
SUMMARY:DMU13 - ALCB
UID:ae0eee64-1c60-49d4-b67f-8738527e7158
DTSTART:20260311T173000Z
DTEND:20260311T230000Z
LOCATION:Localisation   
CATEGORIES:Sportif
STATUS:
URL;VALUE=URI:https://basketclubcappellois.sportsregions.fr/evenements/2026/03/11/dmu13-alcb-2426291
END:VEVENT
END:VCALENDAR
